BEGIN:VCALENDAR
VERSION:2.0
PRODID:-//wp-events-plugin.com//7.2.2.1//EN
TZID:Europe/Berlin
X-WR-TIMEZONE:Europe/Berlin
BEGIN:VEVENT
UID:10@bauers-buehne.at
DTSTART;TZID=Europe/Berlin:20190519T170000
DTEND;TZID=Europe/Berlin:20190519T170000
DTSTAMP:20190123T080327Z
URL:https://bauers-buehne.at/events/5-uhr-tee-mit-for-dancing-2/
SUMMARY:5-Uhr-Tee mit "For Dancing"
DESCRIPTION:Nach vielen Jahren der Bühnenabstinenz sind sie nun wieder zur
 ück. Die legendäre Combo "For Dancing" aus dem Marchfeld überzeugt mit 
 authentischen und stimmungsvollen Klängen Jung und Alt - und das seit 198
 4!\n\nMit dem 5-Uhr-Tee wird eine fast vergessene Tradition wiederbelegt. 
 Boogie Woogie vom Feinsten und sieben gereifte Stimmungsgaranten!\n\n\nBeg
 inn: 17:00 Uhr\nEinlass: 16:00 Uhr\n\n\nEintritt: € 10\,00\nReservierung
 s-Hotline: +43 2286 249 90
ATTACH;FMTTYPE=image/jpeg:https://bauers-buehne.at/wpa/wp-content/uploads/
 2019/01/tanzbandfordancing.jpg
CATEGORIES:Dancefloor
LOCATION:BAUERs Bühne\, Marktplatz 3\, Obersiebenbrunn\, 2283\, Niederöst
 erreich\, Österreich
GEO:48.2650705;16.70840469999996
X-APPLE-STRUCTURED-LOCATION;VALUE=URI;X-ADDRESS=Marktplatz 3\, Obersiebenbr
 unn\, 2283\, Niederösterreich\, Österreich;X-APPLE-RADIUS=100;X-TITLE=BA
 UERs Bühne:geo:48.2650705,16.70840469999996
END:VEVENT
BEGIN:VTIMEZONE
TZID:Europe/Berlin
X-LIC-LOCATION:Europe/Berlin
BEGIN:DAYLIGHT
DTSTART:20190331T030000
TZOFFSETFROM:+0100
TZOFFSETTO:+0200
TZNAME:CEST
END:DAYLIGHT
END:VTIMEZONE
END:VCALENDAR