BEGIN:VCALENDAR
VERSION:2.0
PRODID:-//wp-events-plugin.com//7.2.3.1//EN
TZID:Europe/Berlin
X-WR-TIMEZONE:Europe/Berlin
BEGIN:VEVENT
UID:11@bauers-buehne.at
DTSTART;TZID=Europe/Berlin:20191019T200000
DTEND;TZID=Europe/Berlin:20191019T200000
DTSTAMP:20191017T122116Z
URL:https://bauers-buehne.at/events/michael-scheruga-neben-der-spur-nachha
 ltig-kleinkunst/
SUMMARY:Michael Scheruga - Neben der Spur - Nachhaltig Kleinkunst.
DESCRIPTION:Die Lebensmitte birgt durchaus auch Tücken in sich. Michael SC
 HERUGA beleuchtet in seinem brandneuen Programm „Neben der Spur – Nach
 haltig Kleinkunst“ schwierige Situationen – aber auch Krisen eines zun
 ehmend in die Jahre kommenden Austro-Männchens und spricht dabei selbstve
 rständlich über sich selbst.\nMag sein körperlicher Zustand auch zusehe
 nds ramponierter erscheinen und mag die Prostatauntersuchung noch weitere 
 Jahrzehnte aufgeschoben werden – oberste Doktrin im Leben des Künstlers
  ist und war immer: „Never loose your Rock &amp\; Roll!“ – mit allem
  was dazugehört.\nAuf der Bühne wird neben Ulrich Schmalzl am Akkordeon 
 und am Klavier (Erstbesetzung) diesmal auch Matthias Simoner (Erstbesetzun
 g\, Bandleader Christina Stürmer) mit an Bord sein!\nSelbstverständlich 
 wird es wieder ein neues Album zum Programm/zur Tournee geben\, eine Singl
 e mit Musikvideo sowie abermals ein selbst gebrautes „MICHA ALE“ in ne
 uer Neben der Spur-Rezeptur!\n(Tipp: Jeder\, der eine CD kauft erhält ein
  „MICHA ALE“ gratis dazu!)\n\nRegie: Christina Meister-Sedlinger\n\nMi
 chael Scheruga wurde 1973 in Stockerau geboren. Er ist Kabarettist\, Liede
 rmacher und Mastermind der Band Ungebleicht.\n„Neben der Spur – Nachha
 ltig Kleinkunst“ ist sein viertes Kabarettprogramm.\n\n\nBeginn: 20:00 U
 hr\nEinlass: 18:30 Uhr\n\n\nTickets: Vorverkauf € 18\,00 / Abendkassa 
 € 21\,00\n\n&nbsp\;\nKartenreservierung\n\n\nTELEFON: Reservierungs-Hotl
 ine: +43 2286 249 90\nE-MAIL: info@bauers-buehne.at\n\nSie können die Kar
 ten eine Stunde vor Veranstaltungsbeginn an der Abendkassa abholen.\n\n
ATTACH;FMTTYPE=image/jpeg:https://bauers-buehne.at/wpa/wp-content/uploads/
 2019/01/50988157_2275344452706316_2886767250444910592_n.jpg
CATEGORIES:Kabarett
LOCATION:BAUERs Bühne\, Marktplatz 3\, Obersiebenbrunn\, 2283\, Niederöst
 erreich\, Österreich
GEO:48.2650705;16.70840469999996
X-APPLE-STRUCTURED-LOCATION;VALUE=URI;X-ADDRESS=Marktplatz 3\, Obersiebenbr
 unn\, 2283\, Niederösterreich\, Österreich;X-APPLE-RADIUS=100;X-TITLE=BA
 UERs Bühne:geo:48.2650705,16.70840469999996
END:VEVENT
BEGIN:VTIMEZONE
TZID:Europe/Berlin
X-LIC-LOCATION:Europe/Berlin
BEGIN:DAYLIGHT
DTSTART:20190331T030000
TZOFFSETFROM:+0100
TZOFFSETTO:+0200
TZNAME:CEST
END:DAYLIGHT
END:VTIMEZONE
END:VCALENDAR