BEGIN:VCALENDAR
VERSION:2.0
PRODID:-//wp-events-plugin.com//7.2.2.1//EN
TZID:Europe/Berlin
X-WR-TIMEZONE:Europe/Berlin
BEGIN:VEVENT
UID:132@bauers-buehne.at
DTSTART;TZID=Europe/Vienna:20240308T200000
DTEND;TZID=Europe/Vienna:20240308T200000
DTSTAMP:20231203T164910Z
URL:https://bauers-buehne.at/events/stefan-greimel-singt-reinhard-mey-ich-
 wollte-wie-orpheus-singen/
SUMMARY:Stefan Greimel singt Reinhard Mey „Ich wollte wie Orpheus singen
 “
DESCRIPTION:Ich wollte wie Orpheus singen\n\nEin Abend mit Liedern von Rein
 hard Mey\n\n[caption id="attachment_4437" align="alignright" width="243"] 
 Roland Gugerel Photography[/caption]\n\nWer hat sie nicht im Ohr\, die wun
 derbaren Chansons und Balladen von Reinhard Mey? Der große Liedermacher h
 at sich über Generationen in die Herzen von Millionen Menschen gesungen.\
 nDer Musiker und Sänger Stefan Greimel hat einen großartigen Abend aus R
 einhard Meys reichhaltigem Repertoire zusammengestellt. Nur eine Gitarre u
 nd seine einfühlsame Stimme machen es möglich\, das Publikum auf eine fa
 ntastische Reise mitzunehmen. Mit bekannten Chansons des berühmten Lieder
 machers\, wie auch selten gespielten Balladen zum Wiederentdecken\, verzau
 bert der Musiker sein Publikum. Ein Muss für Reinhard Mey Fans und all je
 ne\, die es noch werden wollen.\n\nStefan Greimel gelingt es\, wie Orpheus
  zu singen: „… wenn er über die Saiten strich\, schwieg der Wind und 
 das Meer.“\n\nBeginn 20:00 Uhr&nbsp\;\nEinlass 18:30 Uhr\nKartenpreis : 
 VVK €25\,00\n&nbsp\;&nbsp\;&nbsp\;&nbsp\;&nbsp\;&nbsp\;&nbsp\;&nbsp\;&nb
 sp\;&nbsp\;&nbsp\;&nbsp\;&nbsp\;&nbsp\;&nbsp\;&nbsp\;&nbsp\;&nbsp\;&nbsp\;
 &nbsp\;&nbsp\;&nbsp\;&nbsp\;&nbsp\; AK € 25\,00\n\nKartenreservierung\n\
 n\nTELEFON: Reservierungs-Hotline: +43 670 505 60 50\nE-MAIL: info@bauers-
 buehne.at\n\nSie können die Karten eine Stunde vor Veranstaltungsbeginn a
 n der Abendkassa abholen.\n\n
ATTACH;FMTTYPE=image/jpeg:https://bauers-buehne.at/wpa/wp-content/uploads/
 2023/12/2016-08-04-19.50.09-RG-0-scaled-e1701621809917.jpg
CATEGORIES:Konzert
LOCATION:BAUERs Bühne\, Marktplatz 3\, Obersiebenbrunn\, 2283\, Österreic
 h
GEO:48.265071;16.708405
X-APPLE-STRUCTURED-LOCATION;VALUE=URI;X-ADDRESS=Marktplatz 3\, Obersiebenbr
 unn\, 2283\, Österreich;X-APPLE-RADIUS=100;X-TITLE=BAUERs Bühne:geo:48.2
 65071,16.708405
END:VEVENT
BEGIN:VTIMEZONE
TZID:Europe/Vienna
X-LIC-LOCATION:Europe/Vienna
BEGIN:STANDARD
DTSTART:20231029T020000
TZOFFSETFROM:+0200
TZOFFSETTO:+0100
TZNAME:CET
END:STANDARD
END:VTIMEZONE
END:VCALENDAR